BEGIN:VCALENDAR
VERSION:2.0
PRODID:-//Aldun Properties - ECPv6.15.20//NONSGML v1.0//EN
CALSCALE:GREGORIAN
METHOD:PUBLISH
X-WR-CALNAME:Aldun Properties
X-ORIGINAL-URL:https://aldunproperties.com
X-WR-CALDESC:Events for Aldun Properties
REFRESH-INTERVAL;VALUE=DURATION:PT1H
X-Robots-Tag:noindex
X-PUBLISHED-TTL:PT1H
BEGIN:VTIMEZONE
TZID:UTC
BEGIN:STANDARD
TZOFFSETFROM:+0000
TZOFFSETTO:+0000
TZNAME:UTC
DTSTART:20210101T000000
END:STANDARD
END:VTIMEZONE
BEGIN:VEVENT
DTSTART;TZID=UTC:20220823T100000
DTEND;TZID=UTC:20220823T110000
DTSTAMP:20260422T152733
CREATED:20220327T015737Z
LAST-MODIFIED:20220513T211855Z
UID:10000203-1661248800-1661252400@aldunproperties.com
SUMMARY:Coffee Hour
DESCRIPTION:Who doesn’t love a nice cup of hot coffee? Join us in the Community Room for coffee and conversation.
URL:https://aldunproperties.com/event/coffee-hour-10/2022-08-23/
LOCATION:Community Room
CATEGORIES:Churchill Place
END:VEVENT
BEGIN:VEVENT
DTSTART;TZID=UTC:20220822T183000
DTEND;TZID=UTC:20220822T203000
DTSTAMP:20260422T152733
CREATED:20220727T230351Z
LAST-MODIFIED:20220727T230351Z
UID:10000341-1661193000-1661200200@aldunproperties.com
SUMMARY:Card/Game Night
DESCRIPTION:Join us for cards (euchre\, rummy\, etc.) and games.  Open to all!
URL:https://aldunproperties.com/event/card-game-night-20/
LOCATION:Community Center
CATEGORIES:Kensington Preserve,Kensington Senior Living
END:VEVENT
BEGIN:VEVENT
DTSTART;TZID=UTC:20220818T170000
DTEND;TZID=UTC:20220818T190000
DTSTAMP:20260422T152733
CREATED:20220727T230050Z
LAST-MODIFIED:20220727T230301Z
UID:10000340-1660842000-1660849200@aldunproperties.com
SUMMARY:Ice Cream Social - Live Music\, Food Truck\, & Ice Cream!
DESCRIPTION:Join us at the Community Center for an Ice Cream Social Night!!  We will have Momma D’s Food Truck (https://mommadskitchenllc.com/)\, Live Music by Larry Lowis. and some ice cream for all!!  The fun starts at 5PM and runs until 7PM.  Hope to see you there!
URL:https://aldunproperties.com/event/ice-cream-social-live-music-food-truck-ice-cream/
LOCATION:Community Center
CATEGORIES:Kensington Preserve,Kensington Senior Living
END:VEVENT
BEGIN:VEVENT
DTSTART;TZID=UTC:20220815T183000
DTEND;TZID=UTC:20220815T203000
DTSTAMP:20260422T152733
CREATED:20220727T225615Z
LAST-MODIFIED:20220727T225615Z
UID:10000339-1660588200-1660595400@aldunproperties.com
SUMMARY:Card/Game Night
DESCRIPTION:Join us for cards (euchre\, rummy\, etc.) and games.  Open to all!
URL:https://aldunproperties.com/event/card-game-night-19/
LOCATION:Community Center
CATEGORIES:Kensington Preserve,Kensington Senior Living
END:VEVENT
BEGIN:VEVENT
DTSTART;TZID=UTC:20220809T190000
DTEND;TZID=UTC:20220809T210000
DTSTAMP:20260422T152733
CREATED:20220327T024802Z
LAST-MODIFIED:20220727T225426Z
UID:10000309-1660071600-1660078800@aldunproperties.com
SUMMARY:Bingo Night
DESCRIPTION:Enjoy an entertaining night of bingo in the Community Room!
URL:https://aldunproperties.com/event/bingo-night-8/
LOCATION:Community Center
CATEGORIES:Kensington Preserve,Kensington Senior Living
END:VEVENT
BEGIN:VEVENT
DTSTART;TZID=UTC:20220809T100000
DTEND;TZID=UTC:20220809T110000
DTSTAMP:20260422T152733
CREATED:20220327T015737Z
LAST-MODIFIED:20220513T211855Z
UID:10000202-1660039200-1660042800@aldunproperties.com
SUMMARY:Coffee Hour
DESCRIPTION:Who doesn’t love a nice cup of hot coffee? Join us in the Community Room for coffee and conversation.
URL:https://aldunproperties.com/event/coffee-hour-10/2022-08-09/
LOCATION:Community Room
CATEGORIES:Churchill Place
END:VEVENT
BEGIN:VEVENT
DTSTART;TZID=UTC:20220808T183000
DTEND;TZID=UTC:20220808T203000
DTSTAMP:20260422T152733
CREATED:20220727T225320Z
LAST-MODIFIED:20220727T225320Z
UID:10000338-1659983400-1659990600@aldunproperties.com
SUMMARY:Card/Game Night
DESCRIPTION:Join us for cards (euchre\, rummy\, etc.) and games.  Open to all!
URL:https://aldunproperties.com/event/card-game-night-18/
LOCATION:Community Center
CATEGORIES:Kensington Preserve,Kensington Senior Living
END:VEVENT
BEGIN:VEVENT
DTSTART;TZID=UTC:20220801T183000
DTEND;TZID=UTC:20220801T203000
DTSTAMP:20260422T152733
CREATED:20220701T001754Z
LAST-MODIFIED:20220727T224822Z
UID:10000331-1659378600-1659385800@aldunproperties.com
SUMMARY:Card/Game Night
DESCRIPTION:Join us for cards (euchre\, rummy\, etc.) and games.  Open to all!
URL:https://aldunproperties.com/event/card-game-night-17/
LOCATION:Community Center
CATEGORIES:Kensington Preserve,Kensington Senior Living
END:VEVENT
BEGIN:VEVENT
DTSTART;TZID=UTC:20220729T163000
DTEND;TZID=UTC:20220729T180000
DTSTAMP:20260422T152733
CREATED:20220701T003337Z
LAST-MODIFIED:20220701T003337Z
UID:10000334-1659112200-1659117600@aldunproperties.com
SUMMARY:Meet & Mingle
DESCRIPTION:Meet some new and old friends during a casual meet & mingle hour in the Community Room.  Bring your favorite beverage and\, if you’re feeling ambitious\, a dish to pass!
URL:https://aldunproperties.com/event/meet-mingle/
CATEGORIES:Kensington Preserve,Kensington Senior Living
END:VEVENT
BEGIN:VEVENT
DTSTART;TZID=UTC:20220726T190000
DTEND;TZID=UTC:20220726T210000
DTSTAMP:20260422T152733
CREATED:20220701T003046Z
LAST-MODIFIED:20220701T003046Z
UID:10000333-1658862000-1658869200@aldunproperties.com
SUMMARY:Bingo Night
DESCRIPTION:Enjoy an entertaining night of bingo in the Community Room!
URL:https://aldunproperties.com/event/bingo-night-9/
LOCATION:Community Center
CATEGORIES:Kensington Preserve,Kensington Senior Living
END:VEVENT
BEGIN:VEVENT
DTSTART;TZID=UTC:20220726T100000
DTEND;TZID=UTC:20220726T110000
DTSTAMP:20260422T152733
CREATED:20220327T015737Z
LAST-MODIFIED:20220513T211855Z
UID:10000201-1658829600-1658833200@aldunproperties.com
SUMMARY:Coffee Hour
DESCRIPTION:Who doesn’t love a nice cup of hot coffee? Join us in the Community Room for coffee and conversation.
URL:https://aldunproperties.com/event/coffee-hour-10/2022-07-26/
LOCATION:Community Room
CATEGORIES:Churchill Place
END:VEVENT
BEGIN:VEVENT
DTSTART;TZID=UTC:20220725T183000
DTEND;TZID=UTC:20220725T203000
DTSTAMP:20260422T152733
CREATED:20220327T022328Z
LAST-MODIFIED:20220701T002350Z
UID:10000257-1658773800-1658781000@aldunproperties.com
SUMMARY:Card/Game Night
DESCRIPTION:
URL:https://aldunproperties.com/event/card-game-night-15/
LOCATION:Community Center
CATEGORIES:Kensington Preserve,Kensington Senior Living
END:VEVENT
BEGIN:VEVENT
DTSTART;TZID=UTC:20220718T183000
DTEND;TZID=UTC:20220718T203000
DTSTAMP:20260422T152733
CREATED:20220327T022352Z
LAST-MODIFIED:20220701T002312Z
UID:10000258-1658169000-1658176200@aldunproperties.com
SUMMARY:Card/Game Night
DESCRIPTION:
URL:https://aldunproperties.com/event/card-game-night-16/
LOCATION:Community Center
CATEGORIES:Kensington Preserve,Kensington Senior Living
END:VEVENT
BEGIN:VEVENT
DTSTART;TZID=UTC:20220714T170000
DTEND;TZID=UTC:20220714T190000
DTSTAMP:20260422T152733
CREATED:20220701T004333Z
LAST-MODIFIED:20220701T004415Z
UID:10000335-1657818000-1657825200@aldunproperties.com
SUMMARY:Red\, White\, & Blue Cookout
DESCRIPTION:Our monthly event for July is a fun-filled cookout!  We will be grilling up some hotdogs and hamburgers on the outdoor back patio in the Community Center.  If you’d like to bring an appetizer or dessert to pass\, please click on this link:  https://www.signupgenius.com/go/10C0F4BABAB2BA1FBC43-red. \nDance the evening away to some live music by the Silvertones! \nPlease contact the office to RSVP…you won’t want to miss it! \n \n 
URL:https://aldunproperties.com/event/red-white-blue-cookout/
CATEGORIES:Kensington Preserve,Kensington Senior Living
END:VEVENT
BEGIN:VEVENT
DTSTART;TZID=UTC:20220712T100000
DTEND;TZID=UTC:20220712T110000
DTSTAMP:20260422T152733
CREATED:20220327T015737Z
LAST-MODIFIED:20220513T211855Z
UID:10000200-1657620000-1657623600@aldunproperties.com
SUMMARY:Coffee Hour
DESCRIPTION:Who doesn’t love a nice cup of hot coffee? Join us in the Community Room for coffee and conversation.
URL:https://aldunproperties.com/event/coffee-hour-10/2022-07-12/
LOCATION:Community Room
CATEGORIES:Churchill Place
END:VEVENT
BEGIN:VEVENT
DTSTART;TZID=UTC:20220704T100000
DTEND;TZID=UTC:20220704T180000
DTSTAMP:20260422T152733
CREATED:20220701T010608Z
LAST-MODIFIED:20220701T010608Z
UID:10000336-1656928800-1656957600@aldunproperties.com
SUMMARY:Happy Independence Day!  Office is closed.
DESCRIPTION:Have a wonderful and safe Fourth of July.  Please remember that fireworks are prohibited at all Aldun Properties.
URL:https://aldunproperties.com/event/happy-independence-day-office-is-closed-2/
CATEGORIES:Churchill Place
END:VEVENT
BEGIN:VEVENT
DTSTART;TZID=UTC:20220704T100000
DTEND;TZID=UTC:20220704T180000
DTSTAMP:20260422T152733
CREATED:20220701T002707Z
LAST-MODIFIED:20220701T010643Z
UID:10000332-1656928800-1656957600@aldunproperties.com
SUMMARY:Happy Independence Day!  Office is closed.
DESCRIPTION:Have a wonderful and safe Fourth of July.  Please remember that fireworks are prohibited at all Aldun Properties.
URL:https://aldunproperties.com/event/happy-independence-day-office-is-closed/
CATEGORIES:Kensington Preserve,Kensington Senior Living
END:VEVENT
BEGIN:VEVENT
DTSTART;TZID=UTC:20220702T080000
DTEND;TZID=UTC:20220702T170000
DTSTAMP:20260422T152733
CREATED:20220701T001340Z
LAST-MODIFIED:20220701T001340Z
UID:10000330-1656748800-1656781200@aldunproperties.com
SUMMARY:Office Closed
DESCRIPTION:Our office will be closed on Saturday\, July 2nd\, in observance of the Fourth of July weekend.
URL:https://aldunproperties.com/event/office-closed/
CATEGORIES:Kensington Preserve,Kensington Senior Living
END:VEVENT
BEGIN:VEVENT
DTSTART;TZID=UTC:20220628T100000
DTEND;TZID=UTC:20220628T110000
DTSTAMP:20260422T152733
CREATED:20220327T015737Z
LAST-MODIFIED:20220513T211855Z
UID:10000199-1656410400-1656414000@aldunproperties.com
SUMMARY:Coffee Hour
DESCRIPTION:Who doesn’t love a nice cup of hot coffee? Join us in the Community Room for coffee and conversation.
URL:https://aldunproperties.com/event/coffee-hour-10/2022-06-28/
LOCATION:Community Room
CATEGORIES:Churchill Place
END:VEVENT
BEGIN:VEVENT
DTSTART;TZID=UTC:20220624T163000
DTEND;TZID=UTC:20220624T183000
DTSTAMP:20260422T152733
CREATED:20220511T052459Z
LAST-MODIFIED:20220511T052459Z
UID:10000325-1656088200-1656095400@aldunproperties.com
SUMMARY:Cocktail Hour
DESCRIPTION:Good drinks and good company. Join us for Cocktail Hour in the Community Center!
URL:https://aldunproperties.com/event/cocktail-hour/
LOCATION:Community Center
CATEGORIES:Kensington Preserve,Kensington Senior Living
END:VEVENT
BEGIN:VEVENT
DTSTART;TZID=UTC:20220623T104500
DTEND;TZID=UTC:20220623T114500
DTSTAMP:20260422T152733
CREATED:20220327T020716Z
LAST-MODIFIED:20220327T020716Z
UID:10000214-1655981100-1655984700@aldunproperties.com
SUMMARY:Bible Study
DESCRIPTION:Come join the residents of Churchill Place for weekly bible study.
URL:https://aldunproperties.com/event/bible-study-14/
LOCATION:Community Room
CATEGORIES:Churchill Place
END:VEVENT
BEGIN:VEVENT
DTSTART;TZID=UTC:20220623T100000
DTEND;TZID=UTC:20220623T110000
DTSTAMP:20260422T152733
CREATED:20220327T024154Z
LAST-MODIFIED:20220601T230954Z
UID:10000303-1655978400-1655982000@aldunproperties.com
SUMMARY:Coffee Hour
DESCRIPTION:Who doesn’t love a nice cup of hot coffee? Join us in the Community Room for coffee and conversation.
URL:https://aldunproperties.com/event/coffee-hour-16/
LOCATION:Community Center
CATEGORIES:Kensington Preserve,Kensington Senior Living
END:VEVENT
BEGIN:VEVENT
DTSTART;TZID=UTC:20220622T100000
DTEND;TZID=UTC:20220622T110000
DTSTAMP:20260422T152733
CREATED:20220327T023630Z
LAST-MODIFIED:20220327T023630Z
UID:10000270-1655892000-1655895600@aldunproperties.com
SUMMARY:Bible Study
DESCRIPTION:Come join the residents of Kensington Preserve for weekly bible study.
URL:https://aldunproperties.com/event/bible-study-27/
LOCATION:Community Room
CATEGORIES:Kensington Preserve,Kensington Senior Living
END:VEVENT
BEGIN:VEVENT
DTSTART;VALUE=DATE:20220617
DTEND;VALUE=DATE:20220619
DTSTAMP:20260422T152733
CREATED:20220511T054004Z
LAST-MODIFIED:20220511T054004Z
UID:10000327-1655424000-1655596799@aldunproperties.com
SUMMARY:Sparta Beer & Brat Festival
DESCRIPTION:The Beer & Brat Street Fest is an all-new adult-geared event that will feature locally sourced brats and custom brewed beer.
URL:https://aldunproperties.com/event/sparta-beer-brat-festival/
LOCATION:Sparta Chamber of Commerce\, 194 E. Division\, Sparta\, MI\, 49345\, United States
CATEGORIES:Neighborhood Events
END:VEVENT
BEGIN:VEVENT
DTSTART;TZID=UTC:20220616T180000
DTEND;TZID=UTC:20220616T200000
DTSTAMP:20260422T152733
CREATED:20220327T021055Z
LAST-MODIFIED:20220327T021452Z
UID:10000244-1655402400-1655409600@aldunproperties.com
SUMMARY:Food Truck - Ice Box Brand Ice Cream
DESCRIPTION:Come out and enjoy our monthly visit from a local food truck!
URL:https://aldunproperties.com/event/food-truck-ice-box-brand-ice-cream/
CATEGORIES:Churchill Place
END:VEVENT
BEGIN:VEVENT
DTSTART;TZID=UTC:20220616T170000
DTEND;TZID=UTC:20220616T190000
DTSTAMP:20260422T152733
CREATED:20220327T030042Z
LAST-MODIFIED:20220327T030042Z
UID:10000313-1655398800-1655406000@aldunproperties.com
SUMMARY:Luau Event
DESCRIPTION:We’re having a summer party! Come down to the Community Center and enjoy food trucks by Kona Ice and Let’z TACO Bout It. Live music TBD.
URL:https://aldunproperties.com/event/luau-event/
LOCATION:Community Center
CATEGORIES:Kensington Preserve,Kensington Senior Living
END:VEVENT
BEGIN:VEVENT
DTSTART;TZID=UTC:20220616T104500
DTEND;TZID=UTC:20220616T114500
DTSTAMP:20260422T152733
CREATED:20220327T020629Z
LAST-MODIFIED:20220327T020641Z
UID:10000213-1655376300-1655379900@aldunproperties.com
SUMMARY:Bible Study
DESCRIPTION:Come join the residents of Churchill Place for weekly bible study.
URL:https://aldunproperties.com/event/bible-study-13/
LOCATION:Community Room
CATEGORIES:Churchill Place
END:VEVENT
BEGIN:VEVENT
DTSTART;TZID=UTC:20220615T100000
DTEND;TZID=UTC:20220615T110000
DTSTAMP:20260422T152733
CREATED:20220327T023605Z
LAST-MODIFIED:20220327T023605Z
UID:10000269-1655287200-1655290800@aldunproperties.com
SUMMARY:Bible Study
DESCRIPTION:Come join the residents of Kensington Preserve for weekly bible study.
URL:https://aldunproperties.com/event/bible-study-26/
LOCATION:Community Room
CATEGORIES:Kensington Preserve,Kensington Senior Living
END:VEVENT
BEGIN:VEVENT
DTSTART;TZID=UTC:20220614T190000
DTEND;TZID=UTC:20220614T210000
DTSTAMP:20260422T152733
CREATED:20220327T024712Z
LAST-MODIFIED:20220601T231708Z
UID:10000308-1655233200-1655240400@aldunproperties.com
SUMMARY:Bingo Night
DESCRIPTION:
URL:https://aldunproperties.com/event/bingo-night-7/
LOCATION:Community Center
CATEGORIES:Kensington Preserve,Kensington Senior Living
END:VEVENT
BEGIN:VEVENT
DTSTART;TZID=UTC:20220614T100000
DTEND;TZID=UTC:20220614T110000
DTSTAMP:20260422T152733
CREATED:20220327T015737Z
LAST-MODIFIED:20220513T211855Z
UID:10000198-1655200800-1655204400@aldunproperties.com
SUMMARY:Coffee Hour
DESCRIPTION:Who doesn’t love a nice cup of hot coffee? Join us in the Community Room for coffee and conversation.
URL:https://aldunproperties.com/event/coffee-hour-10/2022-06-14/
LOCATION:Community Room
CATEGORIES:Churchill Place
END:VEVENT
END:VCALENDAR