BEGIN:VCALENDAR
VERSION:2.0
PRODID:-//Aldun Properties - ECPv6.15.20//NONSGML v1.0//EN
CALSCALE:GREGORIAN
METHOD:PUBLISH
X-WR-CALNAME:Aldun Properties
X-ORIGINAL-URL:https://aldunproperties.com
X-WR-CALDESC:Events for Aldun Properties
REFRESH-INTERVAL;VALUE=DURATION:PT1H
X-Robots-Tag:noindex
X-PUBLISHED-TTL:PT1H
BEGIN:VTIMEZONE
TZID:UTC
BEGIN:STANDARD
TZOFFSETFROM:+0000
TZOFFSETTO:+0000
TZNAME:UTC
DTSTART:20210101T000000
END:STANDARD
END:VTIMEZONE
BEGIN:VEVENT
DTSTART;TZID=UTC:20221012T100000
DTEND;TZID=UTC:20221012T110000
DTSTAMP:20260419T231504
CREATED:20220928T193714Z
LAST-MODIFIED:20220928T193714Z
UID:10000418-1665568800-1665572400@aldunproperties.com
SUMMARY:Bible Study
DESCRIPTION:Come join the residents of Kensington Preserve and Kensington Senior Living for weekly bible study.
URL:https://aldunproperties.com/event/bible-study-30/2022-10-12/
LOCATION:Community Room
CATEGORIES:Kensington Preserve,Kensington Senior Living
END:VEVENT
BEGIN:VEVENT
DTSTART;TZID=UTC:20221011T190000
DTEND;TZID=UTC:20221011T210000
DTSTAMP:20260419T231504
CREATED:20220928T193101Z
LAST-MODIFIED:20220928T193101Z
UID:10000397-1665514800-1665522000@aldunproperties.com
SUMMARY:Bingo Night
DESCRIPTION:Enjoy an entertaining night of bingo in the Community Room!
URL:https://aldunproperties.com/event/bingo-night-12/2022-10-11/
LOCATION:Community Center
CATEGORIES:Kensington Preserve,Kensington Senior Living
END:VEVENT
BEGIN:VEVENT
DTSTART;TZID=UTC:20221010T183000
DTEND;TZID=UTC:20221010T203000
DTSTAMP:20260419T231504
CREATED:20220928T192907Z
LAST-MODIFIED:20220928T192907Z
UID:10000390-1665426600-1665433800@aldunproperties.com
SUMMARY:Card/Game Night
DESCRIPTION:Join us for cards (euchre\, rummy\, etc.) and games.  Open to all!
URL:https://aldunproperties.com/event/card-game-night-23/2022-10-10/
LOCATION:Community Center
CATEGORIES:Kensington Preserve,Kensington Senior Living
END:VEVENT
BEGIN:VEVENT
DTSTART;TZID=UTC:20221007T160000
DTEND;TZID=UTC:20221007T203000
DTSTAMP:20260419T231504
CREATED:20220928T200243Z
LAST-MODIFIED:20220928T200243Z
UID:10000465-1665158400-1665174600@aldunproperties.com
SUMMARY:The Ada Village Fall Festival
DESCRIPTION:Celebrate Fall in Ada Village for the annual Fall Festival. Enjoy pumpkin painting\, live music\, a flower truck\, brats at Ada Fresh Market\, bonfires in the park\, a fire truck\, s’more kits\, native animal display\, and so much more. \nEnjoy a kids reading at the Ada Historical Society from 4pm-5:30pm. Be one of the first 50 to receive a goodie bag.\nVisit our local restaurants to get Gravel Bottom’s specialty Fall beers and delicious brat dishes. \n*Featuring Brats and Bonfires* Live music from 4pm-5:30pm and 6:30pm-8:30pm.
URL:https://aldunproperties.com/event/the-ada-village-fall-festival/
LOCATION:4940 Cascade Road\, Grand Rapids\, 49546\, 4940 Cascade Road\, Grand Rapids\, MI\, 49546\, United States
CATEGORIES:Neighborhood Events
GEO:42.944424;-85.546533
X-APPLE-STRUCTURED-LOCATION;VALUE=URI;X-ADDRESS=4940 Cascade Road Grand Rapids 49546 4940 Cascade Road Grand Rapids MI 49546 United States;X-APPLE-RADIUS=500;X-TITLE=4940 Cascade Road:geo:-85.546533,42.944424
END:VEVENT
BEGIN:VEVENT
DTSTART;TZID=UTC:20221005T100000
DTEND;TZID=UTC:20221005T110000
DTSTAMP:20260419T231504
CREATED:20220928T193714Z
LAST-MODIFIED:20220928T193714Z
UID:10000417-1664964000-1664967600@aldunproperties.com
SUMMARY:Bible Study
DESCRIPTION:Come join the residents of Kensington Preserve and Kensington Senior Living for weekly bible study.
URL:https://aldunproperties.com/event/bible-study-30/2022-10-05/
LOCATION:Community Room
CATEGORIES:Kensington Preserve,Kensington Senior Living
END:VEVENT
BEGIN:VEVENT
DTSTART;TZID=UTC:20221004T100000
DTEND;TZID=UTC:20221004T110000
DTSTAMP:20260419T231504
CREATED:20220928T194955Z
LAST-MODIFIED:20220928T194955Z
UID:10000435-1664877600-1664881200@aldunproperties.com
SUMMARY:Coffee Hour
DESCRIPTION:Who doesn’t love a nice cup of hot coffee? Join us in the Community Room for coffee and conversation.
URL:https://aldunproperties.com/event/coffee-hour-18/2022-10-04/
LOCATION:Community Room
CATEGORIES:Churchill Place
END:VEVENT
BEGIN:VEVENT
DTSTART;TZID=UTC:20221003T183000
DTEND;TZID=UTC:20221003T203000
DTSTAMP:20260419T231504
CREATED:20220928T192907Z
LAST-MODIFIED:20220928T192907Z
UID:10000389-1664821800-1664829000@aldunproperties.com
SUMMARY:Card/Game Night
DESCRIPTION:Join us for cards (euchre\, rummy\, etc.) and games.  Open to all!
URL:https://aldunproperties.com/event/card-game-night-23/2022-10-03/
LOCATION:Community Center
CATEGORIES:Kensington Preserve,Kensington Senior Living
END:VEVENT
BEGIN:VEVENT
DTSTART;TZID=UTC:20221001T133000
DTEND;TZID=UTC:20221001T150000
DTSTAMP:20260419T231504
CREATED:20220930T133928Z
LAST-MODIFIED:20220930T134136Z
UID:10000469-1664631000-1664636400@aldunproperties.com
SUMMARY:Walker Pumpkin Bash
DESCRIPTION:Join us on Saturday\, October 1 for our free community-favorite event\, Walker Pumpkin Bash! Free mini pumpkins for the first 1\,250 kids under 12 (while supplies last)\, donuts\, cider\, a live Halloween-themed magic show\, a petting zoo\, a pumpkin decorating station\, trick or treating\, photos in a Walker Police Car and Fire Truck\, and more!  Costumes encouraged! \nWalker Pumpkin Bash is from 1:30 – 3pm at Walker City Hall\, located at 4243 Remembrance Rd. NW.
URL:https://aldunproperties.com/event/walker-pumpkin-bash/
LOCATION:Walker City Hall\, 4243 Remembrance Rd. NW\, Walker\, MI\, 49534\, United States
CATEGORIES:Neighborhood Events
GEO:43.0069587;-85.7734618
X-APPLE-STRUCTURED-LOCATION;VALUE=URI;X-ADDRESS=Walker City Hall 4243 Remembrance Rd. NW Walker MI 49534 United States;X-APPLE-RADIUS=500;X-TITLE=4243 Remembrance Rd. NW:geo:-85.7734618,43.0069587
END:VEVENT
BEGIN:VEVENT
DTSTART;TZID=UTC:20221001T100000
DTEND;TZID=UTC:20221001T140000
DTSTAMP:20260419T231504
CREATED:20220928T194210Z
LAST-MODIFIED:20220928T194239Z
UID:10000430-1664618400-1664632800@aldunproperties.com
SUMMARY:Sewers & Quilters Group
DESCRIPTION:Join residents for some sewing and quilting.  Please bring your own sewing equipment and supplies to the Community Center.  Show off your finished pieces as well!
URL:https://aldunproperties.com/event/801/2022-10-01/
LOCATION:Community Room
CATEGORIES:Kensington Preserve,Kensington Senior Living
END:VEVENT
BEGIN:VEVENT
DTSTART;TZID=UTC:20220930T163000
DTEND;TZID=UTC:20220930T180000
DTSTAMP:20260419T231504
CREATED:20220919T153146Z
LAST-MODIFIED:20220919T153146Z
UID:10000352-1664555400-1664560800@aldunproperties.com
SUMMARY:Meet and Mingle
DESCRIPTION:Good drinks and good company. Join us for a Meet and Mingle cocktail hour in the Community Center!  Please bring your beverage of choice!
URL:https://aldunproperties.com/event/meet-and-mingle/
LOCATION:Community Center
CATEGORIES:Kensington Preserve,Kensington Senior Living
END:VEVENT
BEGIN:VEVENT
DTSTART;TZID=UTC:20220929T100000
DTEND;TZID=UTC:20220929T110000
DTSTAMP:20260419T231504
CREATED:20220919T153415Z
LAST-MODIFIED:20220919T153415Z
UID:10000355-1664445600-1664449200@aldunproperties.com
SUMMARY:Coffee Hour
DESCRIPTION:Who doesn’t love a nice cup of hot coffee? Join us in the Community Room for coffee and conversation.
URL:https://aldunproperties.com/event/coffee-hour-8/2022-09-29/
LOCATION:Community Center
CATEGORIES:Kensington Preserve,Kensington Senior Living
END:VEVENT
BEGIN:VEVENT
DTSTART;TZID=UTC:20220927T190000
DTEND;TZID=UTC:20220927T210000
DTSTAMP:20260419T231504
CREATED:20220919T152745Z
LAST-MODIFIED:20220919T152745Z
UID:10000351-1664305200-1664312400@aldunproperties.com
SUMMARY:Bingo Night
DESCRIPTION:Enjoy an entertaining night of bingo in the Community Room!
URL:https://aldunproperties.com/event/bingo-night-11/2022-09-27/
LOCATION:Community Center
CATEGORIES:Kensington Preserve,Kensington Senior Living
END:VEVENT
BEGIN:VEVENT
DTSTART;TZID=UTC:20220926T183000
DTEND;TZID=UTC:20220926T203000
DTSTAMP:20260419T231504
CREATED:20220919T152614Z
LAST-MODIFIED:20220919T152614Z
UID:10000348-1664217000-1664224200@aldunproperties.com
SUMMARY:Card/Game Night
DESCRIPTION:Join us for cards (euchre\, rummy\, etc.) and games.  Open to all!
URL:https://aldunproperties.com/event/card-game-night-22/2022-09-26/
LOCATION:Community Center
CATEGORIES:Kensington Preserve,Kensington Senior Living
END:VEVENT
BEGIN:VEVENT
DTSTART;TZID=UTC:20220924T090000
DTEND;TZID=UTC:20220924T160000
DTSTAMP:20260419T231504
CREATED:20220919T155921Z
LAST-MODIFIED:20220919T160000Z
UID:10000387-1664010000-1664035200@aldunproperties.com
SUMMARY:"Shop the Ridge" - Fall Craft Show
DESCRIPTION:Head to Ed Dunneback and Girls Farm Market on Saturday\, September 24th from 9:00AM to 4:00PM.  The farm is located at 3025 6 Mile Road.  For more details\, visit this website:  https://www.dunnebackgirls.com/events
URL:https://aldunproperties.com/event/shop-the-ridge-fall-craft-show/
CATEGORIES:Neighborhood Events
END:VEVENT
BEGIN:VEVENT
DTSTART;TZID=UTC:20220923T160000
DTEND;TZID=UTC:20220923T230000
DTSTAMP:20260419T231504
CREATED:20220919T155535Z
LAST-MODIFIED:20220919T155659Z
UID:10000386-1663948800-1663974000@aldunproperties.com
SUMMARY:Michigan Apple Fest
DESCRIPTION:Head to Sparta Town Square for an arts and crafts\, food trucks\, and farmers market on Friday\, September 23rd from 4:00PM to 11:00PM.  Visit this website for more information:  https://www.michiganapplefest.com/
URL:https://aldunproperties.com/event/michigan-apple-fest/
CATEGORIES:Neighborhood Events
END:VEVENT
BEGIN:VEVENT
DTSTART;TZID=UTC:20220920T100000
DTEND;TZID=UTC:20220920T110000
DTSTAMP:20260419T231504
CREATED:20220919T155123Z
LAST-MODIFIED:20220919T155123Z
UID:10000385-1663668000-1663671600@aldunproperties.com
SUMMARY:Coffee Hour
DESCRIPTION:Who doesn’t love a nice cup of hot coffee? Join us in the Community Room for coffee and conversation.
URL:https://aldunproperties.com/event/coffee-hour-9/2022-09-20/
LOCATION:Community Room
CATEGORIES:Churchill Place
END:VEVENT
BEGIN:VEVENT
DTSTART;TZID=UTC:20220919T183000
DTEND;TZID=UTC:20220919T203000
DTSTAMP:20260419T231504
CREATED:20220919T152614Z
LAST-MODIFIED:20220919T152614Z
UID:10000347-1663612200-1663619400@aldunproperties.com
SUMMARY:Card/Game Night
DESCRIPTION:Join us for cards (euchre\, rummy\, etc.) and games.  Open to all!
URL:https://aldunproperties.com/event/card-game-night-22/2022-09-19/
LOCATION:Community Center
CATEGORIES:Kensington Preserve,Kensington Senior Living
END:VEVENT
BEGIN:VEVENT
DTSTART;TZID=UTC:20220915T100000
DTEND;TZID=UTC:20220915T110000
DTSTAMP:20260419T231504
CREATED:20220919T153415Z
LAST-MODIFIED:20220919T153415Z
UID:10000354-1663236000-1663239600@aldunproperties.com
SUMMARY:Coffee Hour
DESCRIPTION:Who doesn’t love a nice cup of hot coffee? Join us in the Community Room for coffee and conversation.
URL:https://aldunproperties.com/event/coffee-hour-8/2022-09-15/
LOCATION:Community Center
CATEGORIES:Kensington Preserve,Kensington Senior Living
END:VEVENT
BEGIN:VEVENT
DTSTART;TZID=UTC:20220913T190000
DTEND;TZID=UTC:20220913T210000
DTSTAMP:20260419T231504
CREATED:20220919T152745Z
LAST-MODIFIED:20220919T152745Z
UID:10000350-1663095600-1663102800@aldunproperties.com
SUMMARY:Bingo Night
DESCRIPTION:Enjoy an entertaining night of bingo in the Community Room!
URL:https://aldunproperties.com/event/bingo-night-11/2022-09-13/
LOCATION:Community Center
CATEGORIES:Kensington Preserve,Kensington Senior Living
END:VEVENT
BEGIN:VEVENT
DTSTART;TZID=UTC:20220912T183000
DTEND;TZID=UTC:20220912T203000
DTSTAMP:20260419T231504
CREATED:20220919T152614Z
LAST-MODIFIED:20220919T152614Z
UID:10000346-1663007400-1663014600@aldunproperties.com
SUMMARY:Card/Game Night
DESCRIPTION:Join us for cards (euchre\, rummy\, etc.) and games.  Open to all!
URL:https://aldunproperties.com/event/card-game-night-22/2022-09-12/
LOCATION:Community Center
CATEGORIES:Kensington Preserve,Kensington Senior Living
END:VEVENT
BEGIN:VEVENT
DTSTART;TZID=UTC:20220906T100000
DTEND;TZID=UTC:20220906T110000
DTSTAMP:20260419T231504
CREATED:20220919T155123Z
LAST-MODIFIED:20220919T155123Z
UID:10000384-1662458400-1662462000@aldunproperties.com
SUMMARY:Coffee Hour
DESCRIPTION:Who doesn’t love a nice cup of hot coffee? Join us in the Community Room for coffee and conversation.
URL:https://aldunproperties.com/event/coffee-hour-9/2022-09-06/
LOCATION:Community Room
CATEGORIES:Churchill Place
END:VEVENT
BEGIN:VEVENT
DTSTART;TZID=UTC:20220829T183000
DTEND;TZID=UTC:20220829T203000
DTSTAMP:20260419T231504
CREATED:20220727T230737Z
LAST-MODIFIED:20220727T230737Z
UID:10000344-1661797800-1661805000@aldunproperties.com
SUMMARY:Card/Game Night
DESCRIPTION:Join us for cards (euchre\, rummy\, etc.) and games.  Open to all!
URL:https://aldunproperties.com/event/card-game-night-21/
LOCATION:Community Center
CATEGORIES:Kensington Preserve,Kensington Senior Living
END:VEVENT
BEGIN:VEVENT
DTSTART;TZID=UTC:20220826T163000
DTEND;TZID=UTC:20220826T180000
DTSTAMP:20260419T231504
CREATED:20220727T230624Z
LAST-MODIFIED:20220727T230624Z
UID:10000343-1661531400-1661536800@aldunproperties.com
SUMMARY:Meet & Mingle
DESCRIPTION:Meet some new and old friends during a casual meet & mingle hour in the Community Room.  Bring your favorite beverage and\, if you’re feeling ambitious\, a dish to pass!
URL:https://aldunproperties.com/event/meet-mingle-2/
CATEGORIES:Kensington Preserve,Kensington Senior Living
END:VEVENT
BEGIN:VEVENT
DTSTART;TZID=UTC:20220823T190000
DTEND;TZID=UTC:20220823T210000
DTSTAMP:20260419T231504
CREATED:20220727T230511Z
LAST-MODIFIED:20220727T230511Z
UID:10000342-1661281200-1661288400@aldunproperties.com
SUMMARY:Bingo Night
DESCRIPTION:Enjoy an entertaining night of bingo in the Community Room!
URL:https://aldunproperties.com/event/bingo-night-10/
LOCATION:Community Center
CATEGORIES:Kensington Preserve,Kensington Senior Living
END:VEVENT
BEGIN:VEVENT
DTSTART;TZID=UTC:20220823T100000
DTEND;TZID=UTC:20220823T110000
DTSTAMP:20260419T231504
CREATED:20220327T015737Z
LAST-MODIFIED:20220513T211855Z
UID:10000203-1661248800-1661252400@aldunproperties.com
SUMMARY:Coffee Hour
DESCRIPTION:Who doesn’t love a nice cup of hot coffee? Join us in the Community Room for coffee and conversation.
URL:https://aldunproperties.com/event/coffee-hour-10/2022-08-23/
LOCATION:Community Room
CATEGORIES:Churchill Place
END:VEVENT
BEGIN:VEVENT
DTSTART;TZID=UTC:20220822T183000
DTEND;TZID=UTC:20220822T203000
DTSTAMP:20260419T231504
CREATED:20220727T230351Z
LAST-MODIFIED:20220727T230351Z
UID:10000341-1661193000-1661200200@aldunproperties.com
SUMMARY:Card/Game Night
DESCRIPTION:Join us for cards (euchre\, rummy\, etc.) and games.  Open to all!
URL:https://aldunproperties.com/event/card-game-night-20/
LOCATION:Community Center
CATEGORIES:Kensington Preserve,Kensington Senior Living
END:VEVENT
BEGIN:VEVENT
DTSTART;TZID=UTC:20220818T170000
DTEND;TZID=UTC:20220818T190000
DTSTAMP:20260419T231504
CREATED:20220727T230050Z
LAST-MODIFIED:20220727T230301Z
UID:10000340-1660842000-1660849200@aldunproperties.com
SUMMARY:Ice Cream Social - Live Music\, Food Truck\, & Ice Cream!
DESCRIPTION:Join us at the Community Center for an Ice Cream Social Night!!  We will have Momma D’s Food Truck (https://mommadskitchenllc.com/)\, Live Music by Larry Lowis. and some ice cream for all!!  The fun starts at 5PM and runs until 7PM.  Hope to see you there!
URL:https://aldunproperties.com/event/ice-cream-social-live-music-food-truck-ice-cream/
LOCATION:Community Center
CATEGORIES:Kensington Preserve,Kensington Senior Living
END:VEVENT
BEGIN:VEVENT
DTSTART;TZID=UTC:20220815T183000
DTEND;TZID=UTC:20220815T203000
DTSTAMP:20260419T231504
CREATED:20220727T225615Z
LAST-MODIFIED:20220727T225615Z
UID:10000339-1660588200-1660595400@aldunproperties.com
SUMMARY:Card/Game Night
DESCRIPTION:Join us for cards (euchre\, rummy\, etc.) and games.  Open to all!
URL:https://aldunproperties.com/event/card-game-night-19/
LOCATION:Community Center
CATEGORIES:Kensington Preserve,Kensington Senior Living
END:VEVENT
BEGIN:VEVENT
DTSTART;TZID=UTC:20220809T190000
DTEND;TZID=UTC:20220809T210000
DTSTAMP:20260419T231504
CREATED:20220327T024802Z
LAST-MODIFIED:20220727T225426Z
UID:10000309-1660071600-1660078800@aldunproperties.com
SUMMARY:Bingo Night
DESCRIPTION:Enjoy an entertaining night of bingo in the Community Room!
URL:https://aldunproperties.com/event/bingo-night-8/
LOCATION:Community Center
CATEGORIES:Kensington Preserve,Kensington Senior Living
END:VEVENT
BEGIN:VEVENT
DTSTART;TZID=UTC:20220809T100000
DTEND;TZID=UTC:20220809T110000
DTSTAMP:20260419T231504
CREATED:20220327T015737Z
LAST-MODIFIED:20220513T211855Z
UID:10000202-1660039200-1660042800@aldunproperties.com
SUMMARY:Coffee Hour
DESCRIPTION:Who doesn’t love a nice cup of hot coffee? Join us in the Community Room for coffee and conversation.
URL:https://aldunproperties.com/event/coffee-hour-10/2022-08-09/
LOCATION:Community Room
CATEGORIES:Churchill Place
END:VEVENT
END:VCALENDAR